BEGIN:VCALENDAR
VERSION:2.0
PRODID:-//National Association of Scale Aeromodelers - ECPv6.15.20//NONSGML v1.0//EN
CALSCALE:GREGORIAN
METHOD:PUBLISH
X-WR-CALNAME:National Association of Scale Aeromodelers
X-ORIGINAL-URL:https://nasascale.org
X-WR-CALDESC:Events for National Association of Scale Aeromodelers
REFRESH-INTERVAL;VALUE=DURATION:PT1H
X-Robots-Tag:noindex
X-PUBLISHED-TTL:PT1H
BEGIN:VTIMEZONE
TZID:America/Chicago
BEGIN:DAYLIGHT
TZOFFSETFROM:-0600
TZOFFSETTO:-0500
TZNAME:CDT
DTSTART:20210314T080000
END:DAYLIGHT
BEGIN:STANDARD
TZOFFSETFROM:-0500
TZOFFSETTO:-0600
TZNAME:CST
DTSTART:20211107T070000
END:STANDARD
BEGIN:DAYLIGHT
TZOFFSETFROM:-0600
TZOFFSETTO:-0500
TZNAME:CDT
DTSTART:20220313T080000
END:DAYLIGHT
BEGIN:STANDARD
TZOFFSETFROM:-0500
TZOFFSETTO:-0600
TZNAME:CST
DTSTART:20221106T070000
END:STANDARD
BEGIN:DAYLIGHT
TZOFFSETFROM:-0600
TZOFFSETTO:-0500
TZNAME:CDT
DTSTART:20230312T080000
END:DAYLIGHT
BEGIN:STANDARD
TZOFFSETFROM:-0500
TZOFFSETTO:-0600
TZNAME:CST
DTSTART:20231105T070000
END:STANDARD
END:VTIMEZONE
BEGIN:VEVENT
DTSTART;VALUE=DATE:20220917
DTEND;VALUE=DATE:20220919
DTSTAMP:20260424T040028
CREATED:20220328T175430Z
LAST-MODIFIED:20220328T180015Z
UID:29266-1663372800-1663545599@nasascale.org
SUMMARY:Broken Arrow CL Stunt & Scale - C/L
DESCRIPTION:We will be flying at Buder Park in Valley Park\, Follow this link to find stores and roads around the Buder Park area\nContest Director: Steve Smith – steven.smith2112@gmail.com \n\nCL Fun Scale will be flown again 2022! – If you have questions about this event E-mail Fred Cronenwett\, clscale7@gmail.com – Semi-Scale stunt models qualify and BOM rule does not apply for CL Fun Scale \nIf you need help getting your CL Scale documentation together contact Fred Cronenwett\, clscale7@gmail.com \n\nCL Stunt Events – Sat Sept 17 & Sunday Sept 18 \nSaturday Stunt Events\nClassic / Nostalgia 30 *\nOld Time\nProfile\nPAMPA – Advanced \nSunday Stunt Events\nBasic Flight\nPAMPA – Expert\nPAMPA – Intermediate\nPAMPA – Beginner\n. \nScale Events – Saturday\, Sept 17\nFun Scale (Military & Sport combined)\nSport Scale (Military & Sport combined)\nProfile Scale (Military & Sport combined)\n1/2a Scale Event 529 \n\nFor more information\, click here to visit our event page.
URL:https://nasascale.org/event/broken-arrow-cl-stunt-scale-c-l/
LOCATION:Buder Park\, 265 Valley Park Road\, Valley Park\, MO\, 63088\, United States
CATEGORIES:Control LIne Scale
ATTACH;FMTTYPE=image/jpeg:https://nasascale.org/wp-content/uploads/img_6643_cropped.jpg
ORGANIZER;CN="Lafayette Esquadrille Control Line Club":MAILTO:bonzo1953@charter.net
END:VEVENT
END:VCALENDAR