BEGIN:VCALENDAR
VERSION:2.0
PRODID:-//National Association of Scale Aeromodelers - ECPv6.15.20//NONSGML v1.0//EN
CALSCALE:GREGORIAN
METHOD:PUBLISH
X-ORIGINAL-URL:https://nasascale.org
X-WR-CALDESC:Events for National Association of Scale Aeromodelers
REFRESH-INTERVAL;VALUE=DURATION:PT1H
X-Robots-Tag:noindex
X-PUBLISHED-TTL:PT1H
BEGIN:VTIMEZONE
TZID:America/Chicago
BEGIN:DAYLIGHT
TZOFFSETFROM:-0600
TZOFFSETTO:-0500
TZNAME:CDT
DTSTART:20220313T080000
END:DAYLIGHT
BEGIN:STANDARD
TZOFFSETFROM:-0500
TZOFFSETTO:-0600
TZNAME:CST
DTSTART:20221106T070000
END:STANDARD
BEGIN:DAYLIGHT
TZOFFSETFROM:-0600
TZOFFSETTO:-0500
TZNAME:CDT
DTSTART:20230312T080000
END:DAYLIGHT
BEGIN:STANDARD
TZOFFSETFROM:-0500
TZOFFSETTO:-0600
TZNAME:CST
DTSTART:20231105T070000
END:STANDARD
BEGIN:DAYLIGHT
TZOFFSETFROM:-0600
TZOFFSETTO:-0500
TZNAME:CDT
DTSTART:20240310T080000
END:DAYLIGHT
BEGIN:STANDARD
TZOFFSETFROM:-0500
TZOFFSETTO:-0600
TZNAME:CST
DTSTART:20241103T070000
END:STANDARD
END:VTIMEZONE
BEGIN:VEVENT
DTSTART;VALUE=DATE:20230806
DTEND;VALUE=DATE:20230807
DTSTAMP:20260423T144650
CREATED:20230227T175718Z
LAST-MODIFIED:20230227T175718Z
UID:29613-1691280000-1691366399@nasascale.org
SUMMARY:Bob Gialdini Memorial Control Line Championships - C/L
DESCRIPTION:ALL PAMPA CLASSES WILL BE FLOWN ON PAVEMENT\nSCALE JUDGING WILL BEGIN AT 8:30am. OFFICIAL FLIGHTSW WILL BEGIN AT 9:00am.\n\nEVENTS\nAll PAMPA Stunt Classes\, Profile Stunt(One Class)\, Combat\, Speed Limit\, 1/2A Combat (4 Rounds)\, Sport Scale\, Profile Scale\, 1/2A Scale using the Brodak flying rules (mufflers are not required). \nA practice circle for PAMPA stunt will be open at 8:00am.\nOfficial flights will begin at 9:00am.\nMufflers for stunt and scale (other than 1/2A) are required. The muffler must be stock\, tongue\, or aftermarket mufflers. \nRegistration begins at 8:00am. \nEvents: All Scale Classes\nRegistration fee $10.00. Additional $5.00 charge for second or third individual entries. \nEvents: All PAMPA Stunt Classes\nRegistration fee $10.00. Additional $5.00 charge for second or third individual entries. \nEvents: 75Mph Combat and 1/2A Combat\nRegistration fee $10.00.  \nThere is no entry fee for Junior contestants. \nDOWNLOAD THE FLYER FOR MORE INFORMATION \n 
URL:https://nasascale.org/event/bob-gialdini-memorial-control-line-championships-c-l/
LOCATION:Mukwonago High School\, 605 W Veterans Way\, Mukwonago\, WI\, 53149\, United States
CATEGORIES:Control LIne Scale
ATTACH;FMTTYPE=image/jpeg:https://nasascale.org/wp-content/uploads/571182804.jpg
END:VEVENT
END:VCALENDAR