BEGIN:VCALENDAR
VERSION:2.0
PRODID:-//National Association of Scale Aeromodelers - ECPv6.15.20//NONSGML v1.0//EN
CALSCALE:GREGORIAN
METHOD:PUBLISH
X-ORIGINAL-URL:https://nasascale.org
X-WR-CALDESC:Events for National Association of Scale Aeromodelers
REFRESH-INTERVAL;VALUE=DURATION:PT1H
X-Robots-Tag:noindex
X-PUBLISHED-TTL:PT1H
BEGIN:VTIMEZONE
TZID:America/Chicago
BEGIN:DAYLIGHT
TZOFFSETFROM:-0600
TZOFFSETTO:-0500
TZNAME:CDT
DTSTART:20230312T080000
END:DAYLIGHT
BEGIN:STANDARD
TZOFFSETFROM:-0500
TZOFFSETTO:-0600
TZNAME:CST
DTSTART:20231105T070000
END:STANDARD
BEGIN:DAYLIGHT
TZOFFSETFROM:-0600
TZOFFSETTO:-0500
TZNAME:CDT
DTSTART:20240310T080000
END:DAYLIGHT
BEGIN:STANDARD
TZOFFSETFROM:-0500
TZOFFSETTO:-0600
TZNAME:CST
DTSTART:20241103T070000
END:STANDARD
BEGIN:DAYLIGHT
TZOFFSETFROM:-0600
TZOFFSETTO:-0500
TZNAME:CDT
DTSTART:20250309T080000
END:DAYLIGHT
BEGIN:STANDARD
TZOFFSETFROM:-0500
TZOFFSETTO:-0600
TZNAME:CST
DTSTART:20251102T070000
END:STANDARD
END:VTIMEZONE
BEGIN:VEVENT
DTSTART;VALUE=DATE:20240524
DTEND;VALUE=DATE:20240527
DTSTAMP:20260422T013424
CREATED:20231205T171752Z
LAST-MODIFIED:20231206T144542Z
UID:29959-1716508800-1716767999@nasascale.org
SUMMARY:1st Annual Mid-South Memphis Belle Scale Classic - R/C
DESCRIPTION:Dates\nMay 24th – 26th\, 2024 \nClasses\n511 RC Sportsman Sport\n512 RC Expert Sport\n513 RC Expert/Sport Combo\n515 RC Designer\n517 RC Sport Scale Soaring\n520 RC Fun/Pro-Am Sportsman\n522 RC Team\n523 RC Open \nAwards Ceremony\nSaturday\, May 25th at 7:00PM \nRegistration Fee\n$40.00\nPre-Register at https://memphispropbusters.com\nAMA Required \nContact Info\nsecretary@memphispropbusters.com\n(901) 831-2991 \n 
URL:https://nasascale.org/event/1st-annual-mid-south-memphis-belle-scale-classic-r-c/
LOCATION:Memphis Prop Busters Field\, 3945 Inglewood Place\, Arlington\, TN\, 38002\, United States
CATEGORIES:Radio Control Scale
ATTACH;FMTTYPE=image/png:https://nasascale.org/wp-content/uploads/memphis_belle.png
END:VEVENT
BEGIN:VEVENT
DTSTART;VALUE=DATE:20240524
DTEND;VALUE=DATE:20240527
DTSTAMP:20260422T013424
CREATED:20240114T203849Z
LAST-MODIFIED:20240114T203849Z
UID:29988-1716508800-1716767999@nasascale.org
SUMMARY:Northwest Control-Line Regionals 2024 - C/L
DESCRIPTION:Awards offered in 43 events\, including:\n• AEROBATICS — Precision Aerobatics\, Old-Time\, Classic\, Nostalgia 30 and Profile Stunt!\n• COMBAT — Vintage\, 1/2-A (high-performance)\, 80-mph and AMA Fast!\n• NAVY CARRIER — Profile\, Class I\, Class II\, .15 and Nostalgia (Profile and Class I-II)\, Sport 40!\n• RACING — Dallas Sport Goodyear\, NW Sport\, NW Super Sport\, NW Sportsman Clown\, NW Clown!\n• SCALE — Authentic Scale\, Sport Scale\, Profile Scale\, Fun Scale\, and 1/2-A Scale!\n• SPEED — 1/2-A\, 1/2-A Proto\, A\, B\, FAI\, Jet\, Formula 40\, .21 Sport\, .21 Proto\, NW Sport Jet\,\nNASS Sport Jet\, F2D Proto\, Northwest B Proto and Northwest C Speed! (No D Speed) \n\nLocation: Roseburg Regional Airport\nJust off Interstate 5 — take Exit 127 \n\nFor your convenience: Advance registration!\nSign up early and purchase your T-shirts in advance. Discount for all early entry and T-shirt sales!\nWrite for entry package: Northwest Regionals\, 2456 Quince St.\, Eugene\, OR 97404\, or download at flyinglines.org \n\nRegionals lodging\nHost hotel for the 2023 Regionals is the Sleep Inn and Suites\nat 2855 NW Edenbower Blvd.\, just across I-5 from the field\nReserve your room before May 11 to get the special “Northwest Regionals” group rate. Call 541-464-8338 \n\nFor more information\, download our flyer or contact contest director Mike Hazel\, P.O. Box 505\, Lyons\, OR 97358\, zzclspeed@aol.com\nSee flyinglines.org for more information or contest-related updates.
URL:https://nasascale.org/event/northwest-control-line-regionals-2024-c-l/
LOCATION:Roseburg Regional Airport\, 900 SE Douglas Ave\, Roseburg\, OR\, 97470\, United States
CATEGORIES:Control LIne Scale
ATTACH;FMTTYPE=image/gif:https://nasascale.org/wp-content/uploads/northwest-2022.gif
ORGANIZER;CN="Mike Hazel":MAILTO:zzclspeed@aol.com
END:VEVENT
END:VCALENDAR