BEGIN:VCALENDAR
VERSION:2.0
PRODID:-//National Association of Scale Aeromodelers - ECPv6.15.20//NONSGML v1.0//EN
CALSCALE:GREGORIAN
METHOD:PUBLISH
X-ORIGINAL-URL:https://nasascale.org
X-WR-CALDESC:Events for National Association of Scale Aeromodelers
REFRESH-INTERVAL;VALUE=DURATION:PT1H
X-Robots-Tag:noindex
X-PUBLISHED-TTL:PT1H
BEGIN:VTIMEZONE
TZID:America/Chicago
BEGIN:DAYLIGHT
TZOFFSETFROM:-0600
TZOFFSETTO:-0500
TZNAME:CDT
DTSTART:20230312T080000
END:DAYLIGHT
BEGIN:STANDARD
TZOFFSETFROM:-0500
TZOFFSETTO:-0600
TZNAME:CST
DTSTART:20231105T070000
END:STANDARD
BEGIN:DAYLIGHT
TZOFFSETFROM:-0600
TZOFFSETTO:-0500
TZNAME:CDT
DTSTART:20240310T080000
END:DAYLIGHT
BEGIN:STANDARD
TZOFFSETFROM:-0500
TZOFFSETTO:-0600
TZNAME:CST
DTSTART:20241103T070000
END:STANDARD
BEGIN:DAYLIGHT
TZOFFSETFROM:-0600
TZOFFSETTO:-0500
TZNAME:CDT
DTSTART:20250309T080000
END:DAYLIGHT
BEGIN:STANDARD
TZOFFSETFROM:-0500
TZOFFSETTO:-0600
TZNAME:CST
DTSTART:20251102T070000
END:STANDARD
END:VTIMEZONE
BEGIN:VEVENT
DTSTART;VALUE=DATE:20240711
DTEND;VALUE=DATE:20240715
DTSTAMP:20260422T040958
CREATED:20240411T140428Z
LAST-MODIFIED:20240411T140428Z
UID:30043-1720656000-1721001599@nasascale.org
SUMMARY:National Scale Aeromodeling Championships 2024 - R/C\, C/L
DESCRIPTION:The annual Aeromodelling competition is held at the International Aeromodelling Center\, Muncie Indiana. Download the flyer below for your event for more details. \nMore Scale R/C info and registration:\nhttps://nats.modelaircraft.org/discipline/radio-control-scale \nMore Scale C/L info and registration:\nhttps://nats.modelaircraft.org/discipline/control-line-scale \nThe base Registration fee is $60.00 / Each session registration $30.00 – $45.00 \nQuestions?\nContact John Boyko at (614) 203-0620 or sir-smoothie@earthlink.net for the R/C Scale event\nContact Allen Goff at (765) 759-7473 or fcm95@comcast.net for the C/L event
URL:https://nasascale.org/event/national-scale-aeromodeling-championships-2024-r-c-c-l/
LOCATION:AMA International Aeromodeling Center\, 5161 E. Memorial Dr.\, Muncie\, IN\, 47302\, United States
CATEGORIES:Control LIne Scale,Radio Control Scale
ATTACH;FMTTYPE=image/jpeg:https://nasascale.org/wp-content/uploads/AMAApprovedLogo-BMT.jpg
ORGANIZER;CN="National Association of Scale Aeromodelers":MAILTO:web@nasascale.org
END:VEVENT
END:VCALENDAR