BEGIN:VCALENDAR
VERSION:2.0
PRODID:-//National Association of Scale Aeromodelers - ECPv6.15.20//NONSGML v1.0//EN
CALSCALE:GREGORIAN
METHOD:PUBLISH
X-ORIGINAL-URL:https://nasascale.org
X-WR-CALDESC:Events for National Association of Scale Aeromodelers
REFRESH-INTERVAL;VALUE=DURATION:PT1H
X-Robots-Tag:noindex
X-PUBLISHED-TTL:PT1H
BEGIN:VTIMEZONE
TZID:America/Chicago
BEGIN:DAYLIGHT
TZOFFSETFROM:-0600
TZOFFSETTO:-0500
TZNAME:CDT
DTSTART:20220313T080000
END:DAYLIGHT
BEGIN:STANDARD
TZOFFSETFROM:-0500
TZOFFSETTO:-0600
TZNAME:CST
DTSTART:20221106T070000
END:STANDARD
BEGIN:DAYLIGHT
TZOFFSETFROM:-0600
TZOFFSETTO:-0500
TZNAME:CDT
DTSTART:20230312T080000
END:DAYLIGHT
BEGIN:STANDARD
TZOFFSETFROM:-0500
TZOFFSETTO:-0600
TZNAME:CST
DTSTART:20231105T070000
END:STANDARD
BEGIN:DAYLIGHT
TZOFFSETFROM:-0600
TZOFFSETTO:-0500
TZNAME:CDT
DTSTART:20240310T080000
END:DAYLIGHT
BEGIN:STANDARD
TZOFFSETFROM:-0500
TZOFFSETTO:-0600
TZNAME:CST
DTSTART:20241103T070000
END:STANDARD
END:VTIMEZONE
BEGIN:VEVENT
DTSTART;VALUE=DATE:20230706
DTEND;VALUE=DATE:20230710
DTSTAMP:20260422T031910
CREATED:20230405T194621Z
LAST-MODIFIED:20231011T001457Z
UID:29636-1688601600-1688947199@nasascale.org
SUMMARY:National Scale Aeromodeling Championships 2023 - R/C\, C/L
DESCRIPTION:The annual Aeromodelling competition held at the International Aeromodeling Center\, Muncie Indiana. Download the flyer below for your event for more details. \nMore Scale R/C info and registration:\nhttps://nats.modelaircraft.org/discipline/radio-control-scale \nMore Scale C/L info and registration:\nhttps://nats.modelaircraft.org/discipline/control-line-scale \nBase Registration fee is $60.00 / Each session registration $25.00 – $30.00 \nQuestions?\nContact John Boyko at (614) 203-0620 or sir-smoothie@earthlink.net for the R/C Scale event\nR/C Event Flyer \nContact Allen Goff at (765) 759-7473 or fcm95@comcast.net for the C/L event\nC/L Event Flyer
URL:https://nasascale.org/event/national-scale-aeromodeling-championships-2022-r-c-c-l/
LOCATION:AMA International Aeromodeling Center\, 5161 E. Memorial Dr.\, Muncie\, IN\, 47302\, United States
CATEGORIES:Control LIne Scale,Radio Control Scale
ATTACH;FMTTYPE=image/jpeg:https://nasascale.org/wp-content/uploads/AMAApprovedLogo-BMT.jpg
ORGANIZER;CN="National Association of Scale Aeromodelers":MAILTO:web@nasascale.org
END:VEVENT
BEGIN:VEVENT
DTSTART;VALUE=DATE:20230722
DTEND;VALUE=DATE:20230724
DTSTAMP:20260422T031910
CREATED:20230329T223508Z
LAST-MODIFIED:20230329T223508Z
UID:29633-1689984000-1690156799@nasascale.org
SUMMARY:Northeast Scale Qualifier 2023 - R/C
DESCRIPTION:July 22-23\, 2023\nCampers Welcomed – No Hookups – Food & Lodging Within a Few Miles\nAwards to 3rd Place\nTurbines Welcomed All Classes!\nOvernight storage for models and every pilot gets a grab bag!\nMentors & Judging Seminars for First Timers! \n1st Entry-$30.00-2nd Entry-$10.00 \nClasses:\n512 RC Expert Sport Scale\n515 RC Designer Scale\n522 RC Team Scale\n520 RC Fun Scale Novice & Expert \nHosted by the Binghamton Aeros\nChenango Bridge Airport\, 247 Airport Road Binghamton N.Y. 13901\nGPS Coordinates 42.19174\, -75.84130 \nDownload PDF Flyer \nContest Director: Danny Carozza – (914) 380-2302 or aeroplaneart@aol.com
URL:https://nasascale.org/event/northeast-scale-qualifier-2023-r-c/
LOCATION:Binghamton Aeros Flying Field\, 247 Airport Road\, Binghamton\, NY\, 13901\, United States
CATEGORIES:Radio Control Scale
ATTACH;FMTTYPE=image/jpeg:https://nasascale.org/wp-content/uploads/Aeros_Flighline_pic.jpg
END:VEVENT
END:VCALENDAR