BEGIN:VCALENDAR
VERSION:2.0
PRODID:-//National Association of Scale Aeromodelers - ECPv6.15.20//NONSGML v1.0//EN
CALSCALE:GREGORIAN
METHOD:PUBLISH
X-WR-CALNAME:National Association of Scale Aeromodelers
X-ORIGINAL-URL:https://nasascale.org
X-WR-CALDESC:Events for National Association of Scale Aeromodelers
REFRESH-INTERVAL;VALUE=DURATION:PT1H
X-Robots-Tag:noindex
X-PUBLISHED-TTL:PT1H
BEGIN:VTIMEZONE
TZID:America/Chicago
BEGIN:DAYLIGHT
TZOFFSETFROM:-0600
TZOFFSETTO:-0500
TZNAME:CDT
DTSTART:20210314T080000
END:DAYLIGHT
BEGIN:STANDARD
TZOFFSETFROM:-0500
TZOFFSETTO:-0600
TZNAME:CST
DTSTART:20211107T070000
END:STANDARD
BEGIN:DAYLIGHT
TZOFFSETFROM:-0600
TZOFFSETTO:-0500
TZNAME:CDT
DTSTART:20220313T080000
END:DAYLIGHT
BEGIN:STANDARD
TZOFFSETFROM:-0500
TZOFFSETTO:-0600
TZNAME:CST
DTSTART:20221106T070000
END:STANDARD
BEGIN:DAYLIGHT
TZOFFSETFROM:-0600
TZOFFSETTO:-0500
TZNAME:CDT
DTSTART:20230312T080000
END:DAYLIGHT
BEGIN:STANDARD
TZOFFSETFROM:-0500
TZOFFSETTO:-0600
TZNAME:CST
DTSTART:20231105T070000
END:STANDARD
END:VTIMEZONE
BEGIN:VEVENT
DTSTART;VALUE=DATE:20220714
DTEND;VALUE=DATE:20220718
DTSTAMP:20260422T175935
CREATED:20220225T034250Z
LAST-MODIFIED:20220328T163708Z
UID:29045-1657756800-1658102399@nasascale.org
SUMMARY:National Scale Aeromodeling Championships 2022 - R/C\, C/L. F/F
DESCRIPTION:The annual Aeromodeling competition held at the International Aeromodeling Center\, Muncie Indiana \nMore Scale R/C info and registration:\nhttps://www.modelaircraft.org/events/nats-2022-rc-scale \nMore Scale C/L info and registration:\nhttps://www.modelaircraft.org/events/nats-2022-control-line-scale \nBase Registration fee is $50.00 / Each session registration $25.00 – $30.00 \nQuestions? Contact John Boyko at (614) 203-0620 or sir-smoothie@earthlink.net
URL:https://nasascale.org/event/national-scale-aeromodeling-championships/
LOCATION:AMA International Aeromodeling Center\, 5161 E. Memorial Dr.\, Muncie\, IN\, 47302\, United States
CATEGORIES:Control LIne Scale,Free Flight Scale,Radio Control Scale
ATTACH;FMTTYPE=image/jpeg:https://nasascale.org/wp-content/uploads/2019-Scale-Nats-Saturday-017-scaled.jpg
ORGANIZER;CN="National Association of Scale Aeromodelers":MAILTO:web@nasascale.org
END:VEVENT
END:VCALENDAR