BEGIN:VCALENDAR
VERSION:2.0
PRODID:-//National Association of Scale Aeromodelers - ECPv6.15.20//NONSGML v1.0//EN
CALSCALE:GREGORIAN
METHOD:PUBLISH
X-WR-CALNAME:National Association of Scale Aeromodelers
X-ORIGINAL-URL:https://nasascale.org
X-WR-CALDESC:Events for National Association of Scale Aeromodelers
REFRESH-INTERVAL;VALUE=DURATION:PT1H
X-Robots-Tag:noindex
X-PUBLISHED-TTL:PT1H
BEGIN:VTIMEZONE
TZID:America/Chicago
BEGIN:DAYLIGHT
TZOFFSETFROM:-0600
TZOFFSETTO:-0500
TZNAME:CDT
DTSTART:20210314T080000
END:DAYLIGHT
BEGIN:STANDARD
TZOFFSETFROM:-0500
TZOFFSETTO:-0600
TZNAME:CST
DTSTART:20211107T070000
END:STANDARD
BEGIN:DAYLIGHT
TZOFFSETFROM:-0600
TZOFFSETTO:-0500
TZNAME:CDT
DTSTART:20220313T080000
END:DAYLIGHT
BEGIN:STANDARD
TZOFFSETFROM:-0500
TZOFFSETTO:-0600
TZNAME:CST
DTSTART:20221106T070000
END:STANDARD
BEGIN:DAYLIGHT
TZOFFSETFROM:-0600
TZOFFSETTO:-0500
TZNAME:CDT
DTSTART:20230312T080000
END:DAYLIGHT
BEGIN:STANDARD
TZOFFSETFROM:-0500
TZOFFSETTO:-0600
TZNAME:CST
DTSTART:20231105T070000
END:STANDARD
END:VTIMEZONE
BEGIN:VEVENT
DTSTART;VALUE=DATE:20220813
DTEND;VALUE=DATE:20220815
DTSTAMP:20260422T165539
CREATED:20220311T002720Z
LAST-MODIFIED:20220328T163802Z
UID:29177-1660348800-1660521599@nasascale.org
SUMMARY:Columbus Scale Classic 2022 - R/C
DESCRIPTION:August 13th & 14th 2022 \nAMA Sanction AA\nCD Mike Barbee\nmabarbee@aol.com \nAMA Scale Classes\n511 RC Sportsman Sport Scale\n512 RC Expert Sport Scale\n515 RC Designer Scale\n522 RC Team Scale\n521 Open Class\nBeginner\, Beginner Class Scale \n1st entry $30.00\, 2nd entry $20.00 \n~ Pre-Registration is ENCOURAGED E-mail Please ~ \nWMAA Flying site Dinneen Field\, Alum Creek State Park \nFlying Starts 10 am Saturday\, 8 am Sunday\, Static Judging 8 am Saturday \nSee the best scale models in the area. Please make a reservation for the party Pilot and Guest Hangar party Saturday Evening at Monster Hangar. \nClick here to download the flyer
URL:https://nasascale.org/event/columbus-scale-classic-2022/
LOCATION:Westerville Model Aeronautics Association\, 5770 Africa Road\, Westerville\, OH\, 43021\, United States
CATEGORIES:Radio Control Scale
ATTACH;FMTTYPE=image/jpeg:https://nasascale.org/wp-content/uploads/sopwith.jpg
ORGANIZER;CN="Westerville Model Aeronautics Association":MAILTO:mabarbee@aol.com
END:VEVENT
END:VCALENDAR