BEGIN:VCALENDAR
VERSION:2.0
PRODID:-//National Association of Scale Aeromodelers - ECPv6.15.20//NONSGML v1.0//EN
CALSCALE:GREGORIAN
METHOD:PUBLISH
X-WR-CALNAME:National Association of Scale Aeromodelers
X-ORIGINAL-URL:https://nasascale.org
X-WR-CALDESC:Events for National Association of Scale Aeromodelers
REFRESH-INTERVAL;VALUE=DURATION:PT1H
X-Robots-Tag:noindex
X-PUBLISHED-TTL:PT1H
BEGIN:VTIMEZONE
TZID:America/Chicago
BEGIN:DAYLIGHT
TZOFFSETFROM:-0600
TZOFFSETTO:-0500
TZNAME:CDT
DTSTART:20220313T080000
END:DAYLIGHT
BEGIN:STANDARD
TZOFFSETFROM:-0500
TZOFFSETTO:-0600
TZNAME:CST
DTSTART:20221106T070000
END:STANDARD
BEGIN:DAYLIGHT
TZOFFSETFROM:-0600
TZOFFSETTO:-0500
TZNAME:CDT
DTSTART:20230312T080000
END:DAYLIGHT
BEGIN:STANDARD
TZOFFSETFROM:-0500
TZOFFSETTO:-0600
TZNAME:CST
DTSTART:20231105T070000
END:STANDARD
BEGIN:DAYLIGHT
TZOFFSETFROM:-0600
TZOFFSETTO:-0500
TZNAME:CDT
DTSTART:20240310T080000
END:DAYLIGHT
BEGIN:STANDARD
TZOFFSETFROM:-0500
TZOFFSETTO:-0600
TZNAME:CST
DTSTART:20241103T070000
END:STANDARD
END:VTIMEZONE
BEGIN:VEVENT
DTSTART;VALUE=DATE:20230114
DTEND;VALUE=DATE:20230116
DTSTAMP:20260422T113405
CREATED:20221117T181040Z
LAST-MODIFIED:20221117T181040Z
UID:29565-1673654400-1673827199@nasascale.org
SUMMARY:Cape Coral Scale Classic - R/C
DESCRIPTION:January 14th – 15th 2023\nAMA Club #543\nCD: Ted Stickler\nCo CD: Joe Dolliver \nAMA Scale Classes\n511 RC Sportsman Sport Scale\n512 RC Expert Sport Scale\n515 RC Designer Scale\n522 RC Team Scale\n520 RC Fun Scale Novice and Expert\n521 RC Open Class Beginner\, Beginner Class Scale \nPre-Registration via Email is Encouraged – jdlaundra@aol.com \nLocation\nSea Hawk Field\n1030 Northwest 28th Street\nCape Coral\, FL 33993 \nFlying starts at 10:00 am on Saturday\, 9:00 am on Sunday.\nStatic Judging starts 9:00 am Saturday\n1st Entry $30.00 (includes pilot lunch)\, 2nd Entry $15.00 \nhttps://www.rseahawks.org \nClick here to download pdf flyer
URL:https://nasascale.org/event/cape-coral-scale-classic-r-c/
LOCATION:Sea Hawk Field\, 1030 Northwest 28th Street\, Cape Coral\, FL\, 33993\, United States
CATEGORIES:Radio Control Scale
ATTACH;FMTTYPE=image/png:https://nasascale.org/wp-content/uploads/banner.png
END:VEVENT
END:VCALENDAR