BEGIN:VCALENDAR
VERSION:2.0
PRODID:-//National Association of Scale Aeromodelers - ECPv6.15.20//NONSGML v1.0//EN
CALSCALE:GREGORIAN
METHOD:PUBLISH
X-WR-CALNAME:National Association of Scale Aeromodelers
X-ORIGINAL-URL:https://nasascale.org
X-WR-CALDESC:Events for National Association of Scale Aeromodelers
REFRESH-INTERVAL;VALUE=DURATION:PT1H
X-Robots-Tag:noindex
X-PUBLISHED-TTL:PT1H
BEGIN:VTIMEZONE
TZID:America/Chicago
BEGIN:DAYLIGHT
TZOFFSETFROM:-0600
TZOFFSETTO:-0500
TZNAME:CDT
DTSTART:20220313T080000
END:DAYLIGHT
BEGIN:STANDARD
TZOFFSETFROM:-0500
TZOFFSETTO:-0600
TZNAME:CST
DTSTART:20221106T070000
END:STANDARD
BEGIN:DAYLIGHT
TZOFFSETFROM:-0600
TZOFFSETTO:-0500
TZNAME:CDT
DTSTART:20230312T080000
END:DAYLIGHT
BEGIN:STANDARD
TZOFFSETFROM:-0500
TZOFFSETTO:-0600
TZNAME:CST
DTSTART:20231105T070000
END:STANDARD
BEGIN:DAYLIGHT
TZOFFSETFROM:-0600
TZOFFSETTO:-0500
TZNAME:CDT
DTSTART:20240310T080000
END:DAYLIGHT
BEGIN:STANDARD
TZOFFSETFROM:-0500
TZOFFSETTO:-0600
TZNAME:CST
DTSTART:20241103T070000
END:STANDARD
END:VTIMEZONE
BEGIN:VEVENT
DTSTART;VALUE=DATE:20230825
DTEND;VALUE=DATE:20230828
DTSTAMP:20260422T031932
CREATED:20230413T193719Z
LAST-MODIFIED:20230413T193719Z
UID:29720-1692921600-1693180799@nasascale.org
SUMMARY:1st Annual Riverside Modelers Scale Classic - R/C
DESCRIPTION:Classes\n520 FUN SCALE – EXPERT= PRO-\nAM\PRO NOVICE=PRO-\nAM\SPORTSMAN\n513 RC Sportsman/Expert Combined\n523 RC Open Scale \nFees\nFirst Entry:$30.00 2nd $15.00\nCovers the Event plus includes FREE BBQ Dinner and Pilot Prizes\nEvents Nasa Qualifier – Scale Masters Qualifier \nField Info\nHuge 1\,000 feet green runway-Covered Spectator Area\, Ample Parking\, Restroom Facilities\, and Camping on Site / No Hook-Ups\nOpen Thursday for early arrival\, campers—trailers.(Jen’s Famous Baked Spaghetti dinner on Friday night is only $8.00 per plate including salad\, bread\, and dessert.)\nFree BBQ Dinner Saturday night. Visit our website at www.riversiderc.com for the map and more event dates. \nMany hotels on the northside of Winston-Salem right off of HWY 52. \nContest Director Info\nCD: John Welcome (336)-303-2245 — jwelcome@gmail.com\nCO-CD: Butch Pendergrass (336)-978-1133 — butch@pendergrassplumbing.com \nClick Here To Download Flyer
URL:https://nasascale.org/event/1st-annual-riverside-modelers-scale-classic-r-c/
LOCATION:Riverside Aeromodelers Society Field\, 1800 Poindexter Rd.\, East Bend\, NC\, 27018\, United States
CATEGORIES:Radio Control Scale
ATTACH;FMTTYPE=image/jpeg:https://nasascale.org/wp-content/uploads/2022_giant_scale_group_picture.jpg
ORGANIZER;CN="Riverside Aeromodelers Society":MAILTO:jwelcome@gmail.com
END:VEVENT
END:VCALENDAR