BEGIN:VCALENDAR
VERSION:2.0
PRODID:-//National Association of Scale Aeromodelers - ECPv6.15.20//NONSGML v1.0//EN
CALSCALE:GREGORIAN
METHOD:PUBLISH
X-ORIGINAL-URL:https://nasascale.org
X-WR-CALDESC:Events for National Association of Scale Aeromodelers
REFRESH-INTERVAL;VALUE=DURATION:PT1H
X-Robots-Tag:noindex
X-PUBLISHED-TTL:PT1H
BEGIN:VTIMEZONE
TZID:America/Chicago
BEGIN:DAYLIGHT
TZOFFSETFROM:-0600
TZOFFSETTO:-0500
TZNAME:CDT
DTSTART:20220313T080000
END:DAYLIGHT
BEGIN:STANDARD
TZOFFSETFROM:-0500
TZOFFSETTO:-0600
TZNAME:CST
DTSTART:20221106T070000
END:STANDARD
BEGIN:DAYLIGHT
TZOFFSETFROM:-0600
TZOFFSETTO:-0500
TZNAME:CDT
DTSTART:20230312T080000
END:DAYLIGHT
BEGIN:STANDARD
TZOFFSETFROM:-0500
TZOFFSETTO:-0600
TZNAME:CST
DTSTART:20231105T070000
END:STANDARD
BEGIN:DAYLIGHT
TZOFFSETFROM:-0600
TZOFFSETTO:-0500
TZNAME:CDT
DTSTART:20240310T080000
END:DAYLIGHT
BEGIN:STANDARD
TZOFFSETFROM:-0500
TZOFFSETTO:-0600
TZNAME:CST
DTSTART:20241103T070000
END:STANDARD
END:VTIMEZONE
BEGIN:VEVENT
DTSTART;VALUE=DATE:20230915
DTEND;VALUE=DATE:20230918
DTSTAMP:20260422T021020
CREATED:20230719T171015Z
LAST-MODIFIED:20230719T171539Z
UID:29106-1694736000-1694995199@nasascale.org
SUMMARY:9th Annual NASA Scale Classic 2023 - R/C & C/L
DESCRIPTION:September 15 – 17th\, 2023\nAMA Muncie Indiana – Site 4\nRC Events: (Fun Scale Open & Novice (open to anyone)\, Sport Scale: Expert\, Designer\, Open\, Team)\nCL Events: (Sport Scale\, Profile\, Fun Scale\, 1/2A scale (open to anyone). \nStatic judging on Friday and flying on Saturday and Sunday.\nAsphalt C/L flying surface.\nGrass field for R/C.\nCamping available.\nMost sites have hook ups.\nSites should be reserved through the AMA. \nJoin us for the awards dinner on Saturday night.\nRSVP by 9/15/23 if you plan to attend and how many in your party for dinner. \nRegistration: $30.00 first event for NASA members… $40.00 for Non-NASA members but includes NASA membership.\nAdditional events are $15.00 each. \nR/C C.D. Carl Handley chandley43231@yahoo.com\nR/C Co-C.D. Steve Eagle stevereagle@yahoo.com\nC/L Allen Goff fcm95@comcast.net \nDownload Flyer \n 
URL:https://nasascale.org/event/nasa-scale-classic-2023/
LOCATION:AMA International Aeromodeling Center\, 5161 E. Memorial Dr.\, Muncie\, IN\, 47302\, United States
CATEGORIES:Control LIne Scale,Radio Control Scale
ATTACH;FMTTYPE=image/jpeg:https://nasascale.org/wp-content/uploads/thumbnail_IMG_0178.jpg
ORGANIZER;CN="National Association of Scale Aeromodelers":MAILTO:web@nasascale.org
END:VEVENT
END:VCALENDAR