BEGIN:VCALENDAR
VERSION:2.0
PRODID:-//National Association of Scale Aeromodelers - ECPv6.15.20//NONSGML v1.0//EN
CALSCALE:GREGORIAN
METHOD:PUBLISH
X-WR-CALNAME:National Association of Scale Aeromodelers
X-ORIGINAL-URL:https://nasascale.org
X-WR-CALDESC:Events for National Association of Scale Aeromodelers
REFRESH-INTERVAL;VALUE=DURATION:PT1H
X-Robots-Tag:noindex
X-PUBLISHED-TTL:PT1H
BEGIN:VTIMEZONE
TZID:America/Chicago
BEGIN:DAYLIGHT
TZOFFSETFROM:-0600
TZOFFSETTO:-0500
TZNAME:CDT
DTSTART:20210314T080000
END:DAYLIGHT
BEGIN:STANDARD
TZOFFSETFROM:-0500
TZOFFSETTO:-0600
TZNAME:CST
DTSTART:20211107T070000
END:STANDARD
BEGIN:DAYLIGHT
TZOFFSETFROM:-0600
TZOFFSETTO:-0500
TZNAME:CDT
DTSTART:20220313T080000
END:DAYLIGHT
BEGIN:STANDARD
TZOFFSETFROM:-0500
TZOFFSETTO:-0600
TZNAME:CST
DTSTART:20221106T070000
END:STANDARD
BEGIN:DAYLIGHT
TZOFFSETFROM:-0600
TZOFFSETTO:-0500
TZNAME:CDT
DTSTART:20230312T080000
END:DAYLIGHT
BEGIN:STANDARD
TZOFFSETFROM:-0500
TZOFFSETTO:-0600
TZNAME:CST
DTSTART:20231105T070000
END:STANDARD
END:VTIMEZONE
BEGIN:VEVENT
DTSTART;VALUE=DATE:20220613
DTEND;VALUE=DATE:20220619
DTSTAMP:20260424T062453
CREATED:20220328T163052Z
LAST-MODIFIED:20240329T140539Z
UID:29235-1655078400-1655596799@nasascale.org
SUMMARY:John G. Brodak Memorial Fly-In 2022 - C/L
DESCRIPTION:Hosted by Brodak Mfg. & Dist. Co.\, Inc.\, Carmichaels PA\nPhone: 724-966-2726 – Fax: 724-966-5670\ne-mail: flyin@brodak.com\nweb site: www.brodak.com\nSATNAV address N39 52.873 W79 57.57 \n\nCONTEST DIRECTORS: WILL DAVIS & MARK WEISS\nFEATURING:\nPrecision Aerobatics Profile Precision Aerobatics – Old-Time Stunt/OTS Phase 2 Classic Stunt/Nostalgia 30 – 1/2A Stunt – ED Tim Tipton\nLadies & Youth Only Basic Flight – ED Alan Buck\nRingmaster/Firecat/Super Firecat – CD Mark Weiss\nSportsman/Expert Foxberg Sportsman/Expert Clown – ED John Saunders\n.15 Carrier Carrier I & II Combined – Profile Carrier Sportsman Carrier – ED John Vlna\nFun Scale Profile Scale Sport Scale 1/2A Scale – ED Allen Golf\nTwo Way Speed Sportsman – Two Way Speed Expert – Perky Speed -Old Time Speed & Racing – Fun Carrier – ED Paul Smith\nJunkyard Wars – ED Tim Stagg\nSpeed Limit Combat – ED Phil Cartier\nRULES POSTED ON WEB SITE www.brodak.com  NOTE: POSTED RULES SUPERSEDE THIS FLYER\nAll ED’s will post their schedules at the registration tent\nAll entrants must check in at registration to show an AMA card\nFor your convenience on Sunday\, June 12th\, 2022 from 1:00 pm to 3:00 pm early registration is available. \n\nPlease download the full flyer here for more information.
URL:https://nasascale.org/event/john-g-brodak-memorial-fly-in-2022/
LOCATION:Brodak Mfg.\, 100 Park Avenue\, Carmichaels\, PA\, 15320\, United States
CATEGORIES:Control LIne Scale
ATTACH;FMTTYPE=image/jpeg:https://nasascale.org/wp-content/uploads/5f031b0a3318a.image_.jpg
ORGANIZER;CN="Brodak Mfg.":MAILTO:flyin@brodak.com
END:VEVENT
BEGIN:VEVENT
DTSTART;VALUE=DATE:20220624
DTEND;VALUE=DATE:20220627
DTSTAMP:20260424T062453
CREATED:20220315T144344Z
LAST-MODIFIED:20220328T163918Z
UID:29188-1656028800-1656287999@nasascale.org
SUMMARY:Mint Julep Scale Meet 2022 - R/C
DESCRIPTION:Hosted by the ROSEWOOD R/C FLYERS\nBill Beach Airfield\n11480 Highway 111SE\nRosewood\, IN 47117 \n800 x 50 Paved runway\, 1200 by 75 grass runway. Paved taxiways\, shelters with tables.\nDry RV camper parking. Electricity for battery charging\, non-potable water on-site. Food is available all three days. \nSchedule\nOpen flying:  Friday 1:00 pm – 7:00 pm\nRegistration: Friday 2:00 pm – 6:00 pm & Saturday 8:00 am until noon or end of first round flying.\nStatic Judging: Friday 2:00 pm – 6:00 pm & Saturday 8:00am until finished.\nFlying begins at 9:00 am on Saturday. Pilots meeting at 8:30 am at the airstrip. Flying begins at 9:00 am Sunday. \nEvents\nExpert Sport Scale (512)\nSportsman Sport Scale (511)\nTeam Scale (522) (Builder must be present)\nDesigner Scale (515)\nOpen Scale (523)\nFun Scale Prop (520)\n   Two Divisions by type of aircraft\n      Division One – For aircraft where the prototype has retracting landing gear\, has more than one mechanical option or was designed specifically for racing. (Basically metal skinned).\n      Division Two – For aircraft where the prototype has fixed landing gear\, has no more than one mechanical option\, or was not designed specifically for racing. (Basically fabric covered).\n   CD reserves the right to reassign the class to meet the intent of the rule.\n   Advanced and Novice (Strictly entry-level).\nFun Scale Jet Turbine (All turbines will fly this class).\n   Advanced Only\nFun Scale Foamy\n   Electric-only\, all foam. One class\, seven maneuvers\, one can be a mechanical option. \nCosts\nEntry fee: $35.00 first event\, $20.00 additional events. One entry only per event. The same model may not be entered in more than one event.\nTeam Scale $35.00. One entry per team. Team scale models may not be entered in other events. Builder and pilot must be in attendance.\nFoamy Scale $5.00\nShelter space is first-come\, first-serve unless you reserve one for $25.00. \nDownloadable Event Flyer\nClick here to download. \nFor questions please contact Dale Arvin CD at darvin0843@gmail.com or 812-987-2224 \n 
URL:https://nasascale.org/event/mint-julep-scale-meet-2022/
LOCATION:Rosewood R/C Flyers – Bill Beach Airfield\, 11352 Old Highway 111 SE\, Elizabeth\, IN\, 47117\, United States
CATEGORIES:Radio Control Scale
ATTACH;FMTTYPE=image/jpeg:https://nasascale.org/wp-content/uploads/dsc_0243_20140317_1382608382_cleanup.jpg
END:VEVENT
END:VCALENDAR