BEGIN:VCALENDAR
VERSION:2.0
PRODID:-//National Association of Scale Aeromodelers - ECPv6.15.20//NONSGML v1.0//EN
CALSCALE:GREGORIAN
METHOD:PUBLISH
X-WR-CALNAME:National Association of Scale Aeromodelers
X-ORIGINAL-URL:https://nasascale.org
X-WR-CALDESC:Events for National Association of Scale Aeromodelers
REFRESH-INTERVAL;VALUE=DURATION:PT1H
X-Robots-Tag:noindex
X-PUBLISHED-TTL:PT1H
BEGIN:VTIMEZONE
TZID:America/Chicago
BEGIN:DAYLIGHT
TZOFFSETFROM:-0600
TZOFFSETTO:-0500
TZNAME:CDT
DTSTART:20220313T080000
END:DAYLIGHT
BEGIN:STANDARD
TZOFFSETFROM:-0500
TZOFFSETTO:-0600
TZNAME:CST
DTSTART:20221106T070000
END:STANDARD
BEGIN:DAYLIGHT
TZOFFSETFROM:-0600
TZOFFSETTO:-0500
TZNAME:CDT
DTSTART:20230312T080000
END:DAYLIGHT
BEGIN:STANDARD
TZOFFSETFROM:-0500
TZOFFSETTO:-0600
TZNAME:CST
DTSTART:20231105T070000
END:STANDARD
BEGIN:DAYLIGHT
TZOFFSETFROM:-0600
TZOFFSETTO:-0500
TZNAME:CDT
DTSTART:20240310T080000
END:DAYLIGHT
BEGIN:STANDARD
TZOFFSETFROM:-0500
TZOFFSETTO:-0600
TZNAME:CST
DTSTART:20241103T070000
END:STANDARD
END:VTIMEZONE
BEGIN:VEVENT
DTSTART;VALUE=DATE:20230902
DTEND;VALUE=DATE:20230904
DTSTAMP:20260423T122830
CREATED:20230719T000249Z
LAST-MODIFIED:20230719T000551Z
UID:29257-1693612800-1693785599@nasascale.org
SUMMARY:Midwest Regional Championships 2023 - C/L
DESCRIPTION:Tree Town Modelaires – Midwest Regional C/L Championships September 2nd – 3rd\nAurora Municipal Airport \nSaturday Events\nJerry Who Memorial Race\nSport Goodyear\nMouse Class 1\nNavy Carrier – Class 1\, Class 2\, Skyray Carrier\, Profile Carrier \nSunday Events\nPrecision Aerobatics – PAMPA 323\, 325\, 324\, 326\nC/L Scale – 509\, 521\, 526\, 529 \nEntry Fees:Open\, $10.00 per event – Junior/Senior\, $5.00 per event\nThe competition begins at 10.00am\nRegistration CLoses at 12:00pm \nDownload flyer here for more details
URL:https://nasascale.org/event/midwest-regional-championships-c-l/
LOCATION:Aurora Municipal Airport\, Veterans Memorial Parkway 43W636 US 30 \, IL\, Sugar Grove\, IL\, 60554\, United States
CATEGORIES:Control LIne Scale
ATTACH;FMTTYPE=image/jpeg:https://nasascale.org/wp-content/uploads/missing_man-1.jpg
END:VEVENT
BEGIN:VEVENT
DTSTART;VALUE=DATE:20230909
DTEND;VALUE=DATE:20230911
DTSTAMP:20260423T122830
CREATED:20230124T175805Z
LAST-MODIFIED:20240316T210736Z
UID:29582-1694217600-1694390399@nasascale.org
SUMMARY:Texas Scale Championship 2023 - R/C
DESCRIPTION:N.A.S.A. Qualifier\nUS Scalemansters Qualifier\nHosted by the Greater Southwest AeroModelers\n650 by 50 grass runway \nEVENTS\nEXPERT SPORTSMAN OPEN/ADVANCED TEAM DESIGNER\nSTATIC ONLY COMPETITION\nAMA SCALE HELICOPTER\nFUN SCALE – EXPERT= PRO-AM\PRO NOVICE=PRO-AM\SPORTSMAN\nBest Female pilot 16 under Best Male Pilot 16 under\nBest Female Pilot over 16\nNo Static Judging \nREGISTRATION\n$30.00 1st Entry\n$10.00 Additional Entry\nSaturday Lunch included\nDrawing for Contestants\nGas Turbines are not allowed \nSATURDAY 9/9 \nREGISTRATION 8:00 A.M.\nSTATIC 8:30 A.M.\nFLYING STARTS 9:00 A.M.\nFour Flight Rounds \nSUNDAY 9/10\nREGISTRATION 8:00 A.M.\nFLYING STARTS 8:00 A.M.\nTwo Flight Rounds\nTROPHY PRESENTATION 1:00 P.M. \nOvernight Parking\nNo hookups.\nMotels 2 miles from the field. \nClick here to download flyer. \nCONTEST DIRECTOR\nJD Crow\n1405 Mill Valley Sq #212\nFort Worth TX 761\nPh. 501-351-3510\njd.crow@yahoo.com \nCONTEST DIRECTOR\nLawrence Harville\n932 Calloway Ct.\nHurst\, Texas 76053\nPh 817-781-9615\nLawharv@yahoo.com
URL:https://nasascale.org/event/texas-scale-championship-r-c/
LOCATION:Greater Southwest AeroModelers\, 6903 Randol Mill Road\, Fort Worth\, TX\, 76120\, United States
CATEGORIES:Radio Control Scale
ATTACH;FMTTYPE=image/gif:https://nasascale.org/wp-content/uploads/decal.gif
ORGANIZER;CN="Greater Southwest AeroModelers":MAILTO:tim@crashdynamics.com
END:VEVENT
BEGIN:VEVENT
DTSTART;VALUE=DATE:20230915
DTEND;VALUE=DATE:20230918
DTSTAMP:20260423T122830
CREATED:20230719T171015Z
LAST-MODIFIED:20230719T171539Z
UID:29106-1694736000-1694995199@nasascale.org
SUMMARY:9th Annual NASA Scale Classic 2023 - R/C & C/L
DESCRIPTION:September 15 – 17th\, 2023\nAMA Muncie Indiana – Site 4\nRC Events: (Fun Scale Open & Novice (open to anyone)\, Sport Scale: Expert\, Designer\, Open\, Team)\nCL Events: (Sport Scale\, Profile\, Fun Scale\, 1/2A scale (open to anyone). \nStatic judging on Friday and flying on Saturday and Sunday.\nAsphalt C/L flying surface.\nGrass field for R/C.\nCamping available.\nMost sites have hook ups.\nSites should be reserved through the AMA. \nJoin us for the awards dinner on Saturday night.\nRSVP by 9/15/23 if you plan to attend and how many in your party for dinner. \nRegistration: $30.00 first event for NASA members… $40.00 for Non-NASA members but includes NASA membership.\nAdditional events are $15.00 each. \nR/C C.D. Carl Handley chandley43231@yahoo.com\nR/C Co-C.D. Steve Eagle stevereagle@yahoo.com\nC/L Allen Goff fcm95@comcast.net \nDownload Flyer \n 
URL:https://nasascale.org/event/nasa-scale-classic-2023/
LOCATION:AMA International Aeromodeling Center\, 5161 E. Memorial Dr.\, Muncie\, IN\, 47302\, United States
CATEGORIES:Control LIne Scale,Radio Control Scale
ATTACH;FMTTYPE=image/jpeg:https://nasascale.org/wp-content/uploads/thumbnail_IMG_0178.jpg
ORGANIZER;CN="National Association of Scale Aeromodelers":MAILTO:web@nasascale.org
END:VEVENT
BEGIN:VEVENT
DTSTART;VALUE=DATE:20230916
DTEND;VALUE=DATE:20230918
DTSTAMP:20260423T122830
CREATED:20230202T035128Z
LAST-MODIFIED:20230202T035128Z
UID:29595-1694822400-1694995199@nasascale.org
SUMMARY:Broken Arrow CL Stunt & Scale 2023 - C/L
DESCRIPTION:September 16 -17th\nWe will be flying at Buder Park in Valley Park\, Follow this link to find stores and roads around the Buder Park area.\nContest Director: Steve Smith – steven.smith2112@gmail.com \n\nCL Fun Scale will be flown again 2023! – If you have questions about this event E-mail Fred Cronenwett\, clscale7@gmail.com – Semi-Scale stunt models qualify and BOM rule does not apply for CL Fun Scale\nIf you need help getting your CL Scale documentation together contact Fred Cronenwett\, clscale7@gmail.com \nPlease visit our club event page for more information about specific events.
URL:https://nasascale.org/event/broken-arrow-cl-stunt-scale-2023-c-l/
LOCATION:Buder Park\, 265 Valley Park Road\, Valley Park\, MO\, 63088\, United States
CATEGORIES:Control LIne Scale
ATTACH;FMTTYPE=image/jpeg:https://nasascale.org/wp-content/uploads/img_6643_cropped.jpg
ORGANIZER;CN="Lafayette Esquadrille Control Line Club":MAILTO:bonzo1953@charter.net
END:VEVENT
END:VCALENDAR