BEGIN:VCALENDAR
VERSION:2.0
PRODID:-//National Association of Scale Aeromodelers - ECPv6.15.20//NONSGML v1.0//EN
CALSCALE:GREGORIAN
METHOD:PUBLISH
X-ORIGINAL-URL:https://nasascale.org
X-WR-CALDESC:Events for National Association of Scale Aeromodelers
REFRESH-INTERVAL;VALUE=DURATION:PT1H
X-Robots-Tag:noindex
X-PUBLISHED-TTL:PT1H
BEGIN:VTIMEZONE
TZID:America/New_York
BEGIN:DAYLIGHT
TZOFFSETFROM:-0500
TZOFFSETTO:-0400
TZNAME:EDT
DTSTART:20230312T070000
END:DAYLIGHT
BEGIN:STANDARD
TZOFFSETFROM:-0400
TZOFFSETTO:-0500
TZNAME:EST
DTSTART:20231105T060000
END:STANDARD
BEGIN:DAYLIGHT
TZOFFSETFROM:-0500
TZOFFSETTO:-0400
TZNAME:EDT
DTSTART:20240310T070000
END:DAYLIGHT
BEGIN:STANDARD
TZOFFSETFROM:-0400
TZOFFSETTO:-0500
TZNAME:EST
DTSTART:20241103T060000
END:STANDARD
BEGIN:DAYLIGHT
TZOFFSETFROM:-0500
TZOFFSETTO:-0400
TZNAME:EDT
DTSTART:20250309T070000
END:DAYLIGHT
BEGIN:STANDARD
TZOFFSETFROM:-0400
TZOFFSETTO:-0500
TZNAME:EST
DTSTART:20251102T060000
END:STANDARD
END:VTIMEZONE
BEGIN:VEVENT
DTSTART;TZID=America/New_York:20240323T100000
DTEND;TZID=America/New_York:20240323T150000
DTSTAMP:20260421T213910
CREATED:20240220T162617Z
LAST-MODIFIED:20240220T162617Z
UID:30013-1711188000-1711206000@nasascale.org
SUMMARY:R/C Aircraft Scale Building Seminar
DESCRIPTION:Join us for an interactive forum of motivational demonstrations and discussions. \nTopics include:\n– Building with metal. Design and fabrication -Soldering and brazing.\n– Custom Fuel tanks\n– Balancing large aircraft using scales\n– Fabric finishing techniques and materials.\n– Spektrum transmitter programming for scale flight\n– Open discussion \nFor more information\, contact either presenter: \nTom Lowrie\nScale Competitor -Top Gun\, NASA\nKit designer and manufacturer\nIMAC competitor\nt.lowrie@epix.net (570) 561-4110 \nGerry Garing\nScale Competitor- Top Gun\, US Scale Masters\, NASA\nDesigner scale builder\nNASA Secretary\nggnasascale@gmail.com (518)-495-0468 \nOr \nWarren Batson\nSeminar Coordinator\nbatson.warren@gmail.com (845) 546-7206 \nDownload Flyer Here
URL:https://nasascale.org/event/r-c-aircraft-scale-building-seminar/
LOCATION:Poughkeepsie United Methodist Recreation Hall\, 2381 New Hackensack Road\, Poughkeepsie\, NY\, 12603\, United States
CATEGORIES:Radio Control Scale
ATTACH;FMTTYPE=image/jpeg:https://nasascale.org/wp-content/uploads/428158062_3561767787423670_3680361441986515548_n.jpg
ORGANIZER;CN="Mid-Hudson Radio Control Society":MAILTO:president@mhrcs.com
END:VEVENT
END:VCALENDAR