BEGIN:VCALENDAR
VERSION:2.0
PRODID:-//National Association of Scale Aeromodelers - ECPv6.15.20//NONSGML v1.0//EN
CALSCALE:GREGORIAN
METHOD:PUBLISH
X-ORIGINAL-URL:https://nasascale.org
X-WR-CALDESC:Events for National Association of Scale Aeromodelers
REFRESH-INTERVAL;VALUE=DURATION:PT1H
X-Robots-Tag:noindex
X-PUBLISHED-TTL:PT1H
BEGIN:VTIMEZONE
TZID:America/Chicago
BEGIN:DAYLIGHT
TZOFFSETFROM:-0600
TZOFFSETTO:-0500
TZNAME:CDT
DTSTART:20230312T080000
END:DAYLIGHT
BEGIN:STANDARD
TZOFFSETFROM:-0500
TZOFFSETTO:-0600
TZNAME:CST
DTSTART:20231105T070000
END:STANDARD
BEGIN:DAYLIGHT
TZOFFSETFROM:-0600
TZOFFSETTO:-0500
TZNAME:CDT
DTSTART:20240310T080000
END:DAYLIGHT
BEGIN:STANDARD
TZOFFSETFROM:-0500
TZOFFSETTO:-0600
TZNAME:CST
DTSTART:20241103T070000
END:STANDARD
BEGIN:DAYLIGHT
TZOFFSETFROM:-0600
TZOFFSETTO:-0500
TZNAME:CDT
DTSTART:20250309T080000
END:DAYLIGHT
BEGIN:STANDARD
TZOFFSETFROM:-0500
TZOFFSETTO:-0600
TZNAME:CST
DTSTART:20251102T070000
END:STANDARD
END:VTIMEZONE
BEGIN:VEVENT
DTSTART;VALUE=DATE:20240610
DTEND;VALUE=DATE:20240616
DTSTAMP:20260422T013511
CREATED:20240329T140440Z
LAST-MODIFIED:20240329T140440Z
UID:30035-1717977600-1718495999@nasascale.org
SUMMARY:John G. Brodak Memorial Fly-In 2024 - C/L
DESCRIPTION:Hosted by:\nBrodak Mfg. & Dist. Co.\, Inc.\,\nCarmichaels PA\nPhone: 724-966-2726 – Fax: 724-966-5670\ne-mail: flyin@brodak.com web site: www.brodak.com\nSATNAV address N39 52.873 W79 57.57 \nCONTEST DIRECTORS: WILL DAVIS & MARK WEISS\nFEATURING:\nPrecision Aerobatics Profile Precision Aerobatics – Old-Time Stunt/OTS Phase 2 Classic Stunt/Nostalgia 30 – 1/2A Stunt – ED Tim Tipton\nLadies & Youth Only Basic Flight – ED Alan Buck\nRingmaster/Firecat/Super Firecat – CD Mark Weiss\nSportsman/Expert Foxberg Sportsman/Expert Clown – ED John Saunders\n.15 Carrier Carrier I & II Combined – Profile Carrier Sportsman Carrier – ED John Vlna\nFun Scale Profile Scale Sport Scale 1/2A Scale – ED Pete Klepsic\nNWS-40 Carrier Sig Skyray Carrier Perky Speed – ED Paul Smith\nJunkyard Wars – ED Tim Stagg\nSpeed Limit Combat – ED Phil Cartier\nBalloon Bust – ED Bernie Suhmanski \nRULES POSTED ON WEB SITE www.brodak.com  NOTE: POSTED RULES SUPERSEDE THIS FLYER\nAll ED’s will post their schedules at the registration tent\nAll entrants must check in at registration to show an AMA card\nFor your convenience on Sunday June 9th\, 2024 from 1:00 pm to 3:00 pm early registration is available. \n\nPlease download the full flyer here for more information.
URL:https://nasascale.org/event/john-g-brodak-memorial-fly-in-2024-c-l/
LOCATION:Brodak Mfg.\, 100 Park Avenue\, Carmichaels\, PA\, 15320\, United States
CATEGORIES:Control LIne Scale
ATTACH;FMTTYPE=image/jpeg:https://nasascale.org/wp-content/uploads/5f031b0a3318a.image_.jpg
ORGANIZER;CN="Brodak Mfg.":MAILTO:flyin@brodak.com
END:VEVENT
BEGIN:VEVENT
DTSTART;VALUE=DATE:20240614
DTEND;VALUE=DATE:20240617
DTSTAMP:20260422T013511
CREATED:20240102T193514Z
LAST-MODIFIED:20240102T193739Z
UID:29983-1718323200-1718582399@nasascale.org
SUMMARY:Mint Julep Scale Meet 2024 - R/C
DESCRIPTION:Hosted by the ROSEWOOD R/C FLYERS\nBill Beach Airfield\n11480 Highway 111SE\nRosewood\, IN 47117\nLatitude: 38.031627\, Longitude: -85.928664\nAMA sanctioned \n800’ by 50’ paved runway\, 1200’ by 75’ grass runway Paved taxiways\, shelters with tables\, dry RV camper parking Electric for battery charging\, non-potable water on site\nFood is available all three days. \n\nSchedule\nOpen flying:  Friday 1:00 pm – 7:00 pm\nRegistration: Friday 2:00 pm – 6:00 pm & Saturday 8:00 am until noon or end of first round flying.\nStatic Judging: Friday 2:00 pm – 6:00 pm & Saturday 8:00 am until finished.\nFlying begins at 9:00 am on Saturday. Pilots meeting at 8:30 am at the airstrip. Flying begins at 9:00 am Sunday. \n\nEvents\nExpert Sport Scale (512)\nSportsman Sport Scale (511)\nTeam Scale (522) (Builder must be present)\nOpen Scale (523)\nFun Scale Prop (520)\n   Two Divisions by type of aircraft\n      Division One – For aircraft where the prototype has retracting landing gear\, has more than one mechanical option or was designed specifically for racing. (Basically metal skinned).\n      Division Two – For aircraft where the prototype has fixed landing gear\, has no more than one mechanical option or was not designed specifically for racing. (Basically fabric covered).\n   CD reserves the right to reassign the class to meet the rule’s intent.\n   Advanced and Novice (Strictly entry-level).\nFun Scale Foamy\n   Electric-only\, all foam. One class\, seven maneuvers\, one can be a mechanical option. \n\nCosts\nEntry fee: $35.00 first event\, and $20.00 for additional events. One entry only per event. The same model may not be entered in more than one event.\nTeam Scale $35.00. One entry per team. Team scale models may not be entered in other events. The builder and pilot must be in attendance.\nFoamy Scale $5.00\nShelter space is first-come\, first-serve unless you reserve one for $25.00. \nDownloadable Event Flyer\nClick here to download.
URL:https://nasascale.org/event/mint-julep-scale-meet-2024-r-c/
LOCATION:Rosewood R/C Flyers – Bill Beach Airfield\, 11352 Old Highway 111 SE\, Elizabeth\, IN\, 47117\, United States
CATEGORIES:Radio Control Scale
ATTACH;FMTTYPE=image/jpeg:https://nasascale.org/wp-content/uploads/dsc_0243_20140317_1382608382_cleanup.jpg
END:VEVENT
END:VCALENDAR