BEGIN:VCALENDAR
VERSION:2.0
PRODID:-//National Association of Scale Aeromodelers - ECPv6.15.20//NONSGML v1.0//EN
CALSCALE:GREGORIAN
METHOD:PUBLISH
X-ORIGINAL-URL:https://nasascale.org
X-WR-CALDESC:Events for National Association of Scale Aeromodelers
REFRESH-INTERVAL;VALUE=DURATION:PT1H
X-Robots-Tag:noindex
X-PUBLISHED-TTL:PT1H
BEGIN:VTIMEZONE
TZID:America/Chicago
BEGIN:DAYLIGHT
TZOFFSETFROM:-0600
TZOFFSETTO:-0500
TZNAME:CDT
DTSTART:20230312T080000
END:DAYLIGHT
BEGIN:STANDARD
TZOFFSETFROM:-0500
TZOFFSETTO:-0600
TZNAME:CST
DTSTART:20231105T070000
END:STANDARD
BEGIN:DAYLIGHT
TZOFFSETFROM:-0600
TZOFFSETTO:-0500
TZNAME:CDT
DTSTART:20240310T080000
END:DAYLIGHT
BEGIN:STANDARD
TZOFFSETFROM:-0500
TZOFFSETTO:-0600
TZNAME:CST
DTSTART:20241103T070000
END:STANDARD
BEGIN:DAYLIGHT
TZOFFSETFROM:-0600
TZOFFSETTO:-0500
TZNAME:CDT
DTSTART:20250309T080000
END:DAYLIGHT
BEGIN:STANDARD
TZOFFSETFROM:-0500
TZOFFSETTO:-0600
TZNAME:CST
DTSTART:20251102T070000
END:STANDARD
END:VTIMEZONE
BEGIN:VEVENT
DTSTART;VALUE=DATE:20240810
DTEND;VALUE=DATE:20240812
DTSTAMP:20260422T041017
CREATED:20240410T150309Z
LAST-MODIFIED:20240410T150309Z
UID:30040-1723248000-1723420799@nasascale.org
SUMMARY:Columbus Scale Classic 2024 - R/C
DESCRIPTION:August 10th & 11th 2024 \nAMA Sanction AA #10166\nCD Gary Smith\ngary@smithcreative.com \nAMA Scale Classes\n511 RC Sportsman Sport Scale\n512 RC Expert Sport Scale\n515 RC Designer Scale\n522 RC Team Scale\n521 Open Class\nBeginner\, Beginner Class Scale \n1st entry $35.00\, 2nd entry $15.00 \n~ Pre-Registration is ENCOURAGED E-mail Please ~ \nWMAA Flying site Dinneen Field\, Alum Creek State Park \nFlying Starts at 10:00 am Saturday\, 8:00 am Sunday\, and Static Judging at 8:00 am Saturday \nSee the best scale models in the area. Please make a reservation for the party Pilot and Guest Hangar party Saturday Evening at Monster Hangar. \nClick here to download the flyer
URL:https://nasascale.org/event/columbus-scale-classic-2024-r-c/
LOCATION:Westerville Model Aeronautics Association\, 5770 Africa Road\, Westerville\, OH\, 43021\, United States
CATEGORIES:Radio Control Scale
ATTACH;FMTTYPE=image/jpeg:https://nasascale.org/wp-content/uploads/sopwith.jpg
ORGANIZER;CN="National Association of Scale Aeromodelers":MAILTO:web@nasascale.org
END:VEVENT
BEGIN:VEVENT
DTSTART;VALUE=DATE:20240831
DTEND;VALUE=DATE:20240902
DTSTAMP:20260422T041017
CREATED:20240529T144414Z
LAST-MODIFIED:20240529T144414Z
UID:30071-1725062400-1725235199@nasascale.org
SUMMARY:Midwest Regional Championships -2024 - C/L
DESCRIPTION:Tree Town Modelaires – Midwest Regional C/L Championships\nAugust 31st – September 1st\nAurora Municipal Airport \nSaturday Events\nStunt Events – (JSO) – Old Time\, Classic/N30\, Over 70\nNavy Carrier – Class 1\, Class 2\, Skyray Carrier\, Profile Carrier \nSunday Events\nPrecision Aerobatics – PAMPA 323\, 324\, 325\, 326\nC/L Scale – 509\, 521\, 526\, 529\, 1/2A \nEntry Fees:Open\, $10.00 per event – Junior/Senior\, $5.00 per event\nThe competition begins at 10.00am\nRegistration Closes at 12:00pm \nPlease download the flyer for more details.
URL:https://nasascale.org/event/midwest-regional-championships-2024-c-l/
LOCATION:Aurora Municipal Airport\, Veterans Memorial Parkway 43W636 US 30 \, IL\, Sugar Grove\, IL\, 60554\, United States
CATEGORIES:Control LIne Scale
ATTACH;FMTTYPE=image/jpeg:https://nasascale.org/wp-content/uploads/missing_man-1.jpg
END:VEVENT
END:VCALENDAR