BEGIN:VCALENDAR
VERSION:2.0
PRODID:-//National Association of Scale Aeromodelers - ECPv6.15.20//NONSGML v1.0//EN
CALSCALE:GREGORIAN
METHOD:PUBLISH
X-WR-CALNAME:National Association of Scale Aeromodelers
X-ORIGINAL-URL:https://nasascale.org
X-WR-CALDESC:Events for National Association of Scale Aeromodelers
REFRESH-INTERVAL;VALUE=DURATION:PT1H
X-Robots-Tag:noindex
X-PUBLISHED-TTL:PT1H
BEGIN:VTIMEZONE
TZID:America/Chicago
BEGIN:DAYLIGHT
TZOFFSETFROM:-0600
TZOFFSETTO:-0500
TZNAME:CDT
DTSTART:20230312T080000
END:DAYLIGHT
BEGIN:STANDARD
TZOFFSETFROM:-0500
TZOFFSETTO:-0600
TZNAME:CST
DTSTART:20231105T070000
END:STANDARD
BEGIN:DAYLIGHT
TZOFFSETFROM:-0600
TZOFFSETTO:-0500
TZNAME:CDT
DTSTART:20240310T080000
END:DAYLIGHT
BEGIN:STANDARD
TZOFFSETFROM:-0500
TZOFFSETTO:-0600
TZNAME:CST
DTSTART:20241103T070000
END:STANDARD
BEGIN:DAYLIGHT
TZOFFSETFROM:-0600
TZOFFSETTO:-0500
TZNAME:CDT
DTSTART:20250309T080000
END:DAYLIGHT
BEGIN:STANDARD
TZOFFSETFROM:-0500
TZOFFSETTO:-0600
TZNAME:CST
DTSTART:20251102T070000
END:STANDARD
END:VTIMEZONE
BEGIN:VEVENT
DTSTART;VALUE=DATE:20240831
DTEND;VALUE=DATE:20240902
DTSTAMP:20260425T215042
CREATED:20240529T144414Z
LAST-MODIFIED:20240529T144414Z
UID:30071-1725062400-1725235199@nasascale.org
SUMMARY:Midwest Regional Championships -2024 - C/L
DESCRIPTION:Tree Town Modelaires – Midwest Regional C/L Championships\nAugust 31st – September 1st\nAurora Municipal Airport \nSaturday Events\nStunt Events – (JSO) – Old Time\, Classic/N30\, Over 70\nNavy Carrier – Class 1\, Class 2\, Skyray Carrier\, Profile Carrier \nSunday Events\nPrecision Aerobatics – PAMPA 323\, 324\, 325\, 326\nC/L Scale – 509\, 521\, 526\, 529\, 1/2A \nEntry Fees:Open\, $10.00 per event – Junior/Senior\, $5.00 per event\nThe competition begins at 10.00am\nRegistration Closes at 12:00pm \nPlease download the flyer for more details.
URL:https://nasascale.org/event/midwest-regional-championships-2024-c-l/
LOCATION:Aurora Municipal Airport\, Veterans Memorial Parkway 43W636 US 30 \, IL\, Sugar Grove\, IL\, 60554\, United States
CATEGORIES:Control LIne Scale
ATTACH;FMTTYPE=image/jpeg:https://nasascale.org/wp-content/uploads/missing_man-1.jpg
END:VEVENT
BEGIN:VEVENT
DTSTART;VALUE=DATE:20240907
DTEND;VALUE=DATE:20240909
DTSTAMP:20260425T215042
CREATED:20240316T211556Z
LAST-MODIFIED:20240316T211556Z
UID:30030-1725667200-1725839999@nasascale.org
SUMMARY:Texas Scale Championship 2024 - R/C
DESCRIPTION:N.A.S.A. Qualifier\nUS Scalemansters Qualifier\nHosted by the Greater Southwest AeroModelers\n650 by 50 grass runway \nEVENTS\nEXPERT\, SPORTSMAN\, OPEN/ADVANCED\, TEAM\, DESIGNER\nSTATIC ONLY COMPETITION\nAMA SCALE HELICOPTER\nFUN SCALE – EXPERT= PRO-AM\PRO NOVICE=PRO-AM\SPORTSMAN\nBest Female pilot 16 under\, Best Male Pilot 16 under\nBest Female Pilot over 16\nElectric  MIlitary and Civilian Classes Also\nNo Static Judging \nREGISTRATION\n$25.00 1st Entry\n$10.00 Additional Entry\nSaturday Lunch included\nDrawing for Contestants\nGas Turbines are not allowed \nSATURDAY 9/7 \nREGISTRATION 8:00 A.M.\nSTATIC 8:30 A.M.\nFLYING STARTS 9:00 A.M.\nFour Flight Rounds \nSUNDAY 9/8\nREGISTRATION 8:00 A.M.\nFLYING STARTS 8:00 A.M.\nTwo Flight Rounds\nTROPHY PRESENTATION 1:00 P.M. \nOvernight Parking\nNo hookups.\nMotels 2 miles from the field. \nClick here to download flyer. \nCONTEST DIRECTOR\nLawrence Harville\n932 Calloway Ct.\nHurst\, Texas 76053\nPh 817-781-9615\nLawharv@yahoo.com \nASSISTANT CONTEST DIRECTOR\nJD Crow\n1405 Mill Valley Sq #212\nFort Worth TX 761\nPh. 501-351-3510\njd.crow@yahoo.com
URL:https://nasascale.org/event/texas-scale-championship-2024-r-c/
LOCATION:Greater Southwest AeroModelers\, 6903 Randol Mill Road\, Fort Worth\, TX\, 76120\, United States
CATEGORIES:Radio Control Scale
ATTACH;FMTTYPE=image/gif:https://nasascale.org/wp-content/uploads/decal.gif
ORGANIZER;CN="Greater Southwest AeroModelers":MAILTO:tim@crashdynamics.com
END:VEVENT
BEGIN:VEVENT
DTSTART;VALUE=DATE:20240913
DTEND;VALUE=DATE:20240916
DTSTAMP:20260425T215042
CREATED:20240129T163738Z
LAST-MODIFIED:20240612T012254Z
UID:29996-1726185600-1726444799@nasascale.org
SUMMARY:NASA Scale Classic 2024 - R/C
DESCRIPTION:NEW THIS YEAR: NO QUALIFICATION REQUIRED FOR ANY CLASS \nSeptember 13 – 15th\, 2024\nBAMS Club Field – Sunbury\, PA \nRC Events: 513 (511 & 512) Sportsman\, 520 Pro-Am (Fun Scale) Pro-Am Sportsman (Novice)\, Pro-Am Pro: Div 1 & Div 2\, 516 Designer\, 523 Open\, 522 Team \nRegistration Fees\nThrough Sept 1st:\n$50.00 (includes banquet)\n$15.00 2nd Entry\nAfter Sept 1st:\n$60.00 (includes banquet)\n$25.00 2nd Entry \nFriday – Registration\, Static Judging\, Round 1 flying begins at noon\nSaturday – Late registration\, Competition Flying\nSaturday Night – Banquet\nSunday – Competition flying continues\, Awards \nBONUS FUN!\nBuild a rubber-powered scale model for our Friday night fly-off. Mass launch\, last one down wins.\nTwo Classes: Under 20″ was and 20″ and over WS \nContest CD: Gerry Garing\, ggnasascale@gmail.com\, (518) 495-0468\nBAMS Contact: Ron Hemphill\, charlieb24@zoominternet.net (724) 996-4044 \nClick Here To Download Flyer
URL:https://nasascale.org/event/nasa-scale-classic-2024-r-c/
LOCATION:Butler Aircraft Modelers Society (BAMS)\, 315 Mack Road\, West Sunbury\, PA\, 16061\, United States
CATEGORIES:Radio Control Scale
ATTACH;FMTTYPE=image/jpeg:https://nasascale.org/wp-content/uploads/thumbnail_IMG_0178.jpg
END:VEVENT
BEGIN:VEVENT
DTSTART;VALUE=DATE:20240921
DTEND;VALUE=DATE:20240923
DTSTAMP:20260425T215042
CREATED:20240114T204538Z
LAST-MODIFIED:20240114T204538Z
UID:29991-1726876800-1727049599@nasascale.org
SUMMARY:Broken Arrow CL Stunt & Scale 2024 - C/L
DESCRIPTION:September 21 – 22th\nWe will be flying at Buder Park in Valley Park\, Follow this link to find stores and roads around the Buder Park area.\nContest Director: Steve Smith – steven.smith2112@gmail.com \n\nCL Fun Scale will be flown 2024! – If you have questions about this event E-mail Fred Cronenwett\, clscale7@gmail.com \nSemi-Scale stunt models qualify and BOM rule does not apply for CL Fun Scale \nIf you need help getting your CL Scale documentation together contact Fred Cronenwett\, clscale7@gmail.com \nPlease visit our club event page for more information about specific events.
URL:https://nasascale.org/event/broken-arrow-cl-stunt-scale-2024-c-l/
LOCATION:Buder Park\, 265 Valley Park Road\, Valley Park\, MO\, 63088\, United States
CATEGORIES:Control LIne Scale
ATTACH;FMTTYPE=image/jpeg:https://nasascale.org/wp-content/uploads/img_6643_cropped.jpg
ORGANIZER;CN="Lafayette Esquadrille Control Line Club":MAILTO:bonzo1953@charter.net
END:VEVENT
END:VCALENDAR